BEGIN:VCALENDAR
VERSION:2.0
PRODID:-//Plone.org//NONSGML plone.app.event//EN
X-WR-TIMEZONE:Europe/Vienna
BEGIN:VEVENT
SUMMARY:Young Talents Scholarship | Summer Academy Venice 2016
DTSTART;VALUE=DATE:20160417
DTEND;VALUE=DATE:20160418
DTSTAMP:20260425T205731Z
UID:78e6924aa85e633dbc74b06900edf32e@www.akbild.ac.at
CREATED:20220312T183119Z
LAST-MODIFIED:20240802T103225Z
URL:https://www.akbild.ac.at/en/research/art-research-service/calls-contes
 ts/2016/young-talents-scholarship-sommerakademie-venedig
END:VEVENT
END:VCALENDAR
