BEGIN:VCALENDAR
VERSION:2.0
PRODID:-//Plone.org//NONSGML plone.app.event//EN
X-WR-TIMEZONE:Europe/Vienna
BEGIN:VEVENT
SUMMARY:Artists-in-Residence-Programme 2018 | Vienna and Salzburg
DTSTART;VALUE=DATE:20170918
DTEND;VALUE=DATE:20170919
DTSTAMP:20260424T133549Z
UID:4f4e15a044585458374222a28061da30@www.akbild.ac.at
CREATED:20220312T183906Z
DESCRIPTION:In co-operation with KulturKontakt Austria\, the  Austrian Fed
 eral Chancellery makes available 50 residencies in Austria  (Vienna and Sa
 lzburg) for the year 2018.
LAST-MODIFIED:20240802T103234Z
URL:https://www.akbild.ac.at/en/research/art-research-service/calls-contes
 ts/2017/artists-in-residence-programm-2018-fuer-auslaendische-kulturaschaf
 fende
END:VEVENT
END:VCALENDAR
