BEGIN:VCALENDAR
VERSION:2.0
PRODID:-//Plone.org//NONSGML plone.app.event//EN
X-WR-TIMEZONE:Europe/Vienna
BEGIN:VEVENT
SUMMARY:Call for Applications | Fellowships for Curators and Artists at Sa
 lzburg Summer Academy 2017
DTSTART;VALUE=DATE:20170326
DTEND;VALUE=DATE:20170327
DTSTAMP:20260419T164038Z
UID:9601e2abccfb6022dd7dc05f9efc4fcd@www.akbild.ac.at
CREATED:20220312T183701Z
DESCRIPTION:ERSTE Foundation offers five fellowships for young artists and
  five  fellowships for emerging curators from the Czech Republic\, Hungary
 \,  Romania and the Slovak Republic to take part in a course of their choi
 ce  at the International Summer Academy of Fine Arts in Salzburg 2017.
LAST-MODIFIED:20240802T103229Z
URL:https://www.akbild.ac.at/en/research/art-research-service/calls-contes
 ts/2017/call-for-applications-fellowships-for-curators-and-artists-at-salz
 burg-summer-academy-2017
END:VEVENT
END:VCALENDAR
