BEGIN:VCALENDAR
VERSION:2.0
PRODID:-//Plone.org//NONSGML plone.app.event//EN
X-WR-TIMEZONE:Europe/Vienna
BEGIN:VEVENT
SUMMARY:Call for Applications | International Summer School ISA Science 20
 17
DTSTART;VALUE=DATE:20170331
DTEND;VALUE=DATE:20170401
DTSTAMP:20260423T122311Z
UID:74710b7c6f8643f8a89ef0498818c57a@www.akbild.ac.at
CREATED:20220312T183713Z
DESCRIPTION:The University of Music and Performing Arts Vienna invites PhD
 -candidates from the humanities\, social sciences and cultural studies to 
 participate in a transdisciplinary one-day Session specially designed for 
 international researchers currently working on their PhD-theses.
LAST-MODIFIED:20240802T103229Z
URL:https://www.akbild.ac.at/en/research/art-research-service/calls-contes
 ts/2017/call-for-applications
END:VEVENT
END:VCALENDAR
