BEGIN:VCALENDAR
VERSION:2.0
PRODID:-//Plone.org//NONSGML plone.app.event//EN
X-WR-TIMEZONE:Europe/Vienna
BEGIN:VEVENT
SUMMARY:Call for Concepts | Amsterdam Light Festival 2017-2018
DTSTART;VALUE=DATE:20170131
DTEND;VALUE=DATE:20170201
DTSTAMP:20260423T084443Z
UID:93b1f1742d1b0273260c16d38e4bd535@www.akbild.ac.at
CREATED:20220312T183546Z
DESCRIPTION:Amsterdam Light Festival is an annual light art festival in th
 e Netherlands that presents the rapidly developing concept of light art in
  all its forms.
LAST-MODIFIED:20240802T103229Z
URL:https://www.akbild.ac.at/en/research/art-research-service/calls-contes
 ts/2017/call-for-concepts-amsterdam-light-festival-2017-2018
END:VEVENT
END:VCALENDAR
