BEGIN:VCALENDAR
VERSION:2.0
PRODID:-//Plone.org//NONSGML plone.app.event//EN
X-WR-TIMEZONE:Europe/Vienna
BEGIN:VEVENT
SUMMARY:Call for Films | Nespresso Talents 2017
DTSTART;VALUE=DATE:20170407
DTEND;VALUE=DATE:20170408
DTSTAMP:20260423T160117Z
UID:2ccffb24f9f7d6c09955e432f109cbf2@www.akbild.ac.at
CREATED:20220312T183719Z
DESCRIPTION:Nespresso is inviting filmmakers to enter this year's Nespress
 o Talents contest.
LAST-MODIFIED:20240802T103229Z
URL:https://www.akbild.ac.at/en/research/art-research-service/calls-contes
 ts/2017/call-for-films-nespresso-talents-2017
END:VEVENT
END:VCALENDAR
