BEGIN:VCALENDAR
VERSION:2.0
PRODID:-//Plone.org//NONSGML plone.app.event//EN
X-WR-TIMEZONE:Europe/Vienna
BEGIN:VEVENT
SUMMARY:FWF | Career Development Program Hertha Firnberg and Elise Richter
DTSTART;VALUE=DATE:20171215
DTEND;VALUE=DATE:20171216
DTSTAMP:20260425T135542Z
UID:1783b7c8f9cdb3e592372ea27c0c2873@www.akbild.ac.at
CREATED:20220312T183946Z
DESCRIPTION:The FWF is offering well qualified female scientists of all di
 sciplines who are working towards a career in universities the chance of a
  two-stage funding for a total of six years.
LAST-MODIFIED:20240802T103234Z
URL:https://www.akbild.ac.at/en/research/art-research-service/calls-contes
 ts/2017/copy_of_fwf-karrierefoerderprogramme-hertha-firnberg-und-elise-ric
 hter
END:VEVENT
END:VCALENDAR
