BEGIN:VCALENDAR
VERSION:2.0
PRODID:-//Plone.org//NONSGML plone.app.event//EN
X-WR-TIMEZONE:Europe/Vienna
BEGIN:VEVENT
SUMMARY:Design Award Artzept 2017 | KITCHEN GADGETS
DTSTART;VALUE=DATE:20170930
DTEND;VALUE=DATE:20171001
DTSTAMP:20260423T173450Z
UID:fa518480e17c01526c6898dbda0eadc4@www.akbild.ac.at
CREATED:20220312T183909Z
DESCRIPTION:Our competition theme has never had a broader  range\, or\, in
 deed\, has been more imaginative... This time we do not ask  you to design
  pots and pans – we already produce the world-class  cookware. This year
 ’s theme is KITCHEN GADGETS.
LAST-MODIFIED:20240802T103234Z
URL:https://www.akbild.ac.at/en/research/art-research-service/calls-contes
 ts/2017/design-award-artzept-2017-kitchen-gadgets
END:VEVENT
END:VCALENDAR
