BEGIN:VCALENDAR
VERSION:2.0
PRODID:-//Plone.org//NONSGML plone.app.event//EN
X-WR-TIMEZONE:Europe/Vienna
BEGIN:VEVENT
SUMMARY:FWF | Science Communication Programme 2017
DTSTART;VALUE=DATE:20170918
DTEND;VALUE=DATE:20170919
DTSTAMP:20260423T175709Z
UID:de0566bed9b2f26d33dbaff3b87618f3@www.akbild.ac.at
CREATED:20220312T183907Z
DESCRIPTION:Grant for science communication measures related to research p
 rojects funded by FWF
LAST-MODIFIED:20240802T103234Z
URL:https://www.akbild.ac.at/en/research/art-research-service/calls-contes
 ts/2017/fwf-wissenschaftskommunikationsprogramm-2017
END:VEVENT
END:VCALENDAR
