BEGIN:VCALENDAR
VERSION:2.0
PRODID:-//Plone.org//NONSGML plone.app.event//EN
X-WR-TIMEZONE:Europe/Vienna
BEGIN:VEVENT
SUMMARY:HERA | Public Spaces: Culture and Integration in Europe
DTSTART;TZID=Europe/Vienna:20171024T140000
DTSTAMP:20260425T153311Z
UID:b6ac6397078a4b9c9ef861630fd672b6@www.akbild.ac.at
CREATED:20220312T183905Z
DESCRIPTION:The Humanities in the European Research Area (HERA) Network ha
 s launched a new Joint Research Programme under the theme “Public Spaces
 : Culture and Integration in Europe”.
LAST-MODIFIED:20240802T103234Z
URL:https://www.akbild.ac.at/en/research/art-research-service/calls-contes
 ts/2017/hera-public-spaces-culture-and-integration-in-europe
END:VEVENT
BEGIN:VTIMEZONE
TZID:Europe/Vienna
X-LIC-LOCATION:Europe/Vienna
BEGIN:DAYLIGHT
DTSTART:20170326T030000
TZNAME:CEST
TZOFFSETFROM:+0100
TZOFFSETTO:+0200
END:DAYLIGHT
END:VTIMEZONE
END:VCALENDAR
