BEGIN:VCALENDAR
VERSION:2.0
PRODID:-//Plone.org//NONSGML plone.app.event//EN
X-WR-TIMEZONE:Europe/Vienna
BEGIN:VEVENT
SUMMARY:Horizon 2020 | Marie Sklodowska-Curie - Individual Fellowships (IF
 )
DTSTART;VALUE=DATE:20170914
DTEND;VALUE=DATE:20170915
DTSTAMP:20260424T090117Z
UID:c6efe8e2b72a3d4f912c2b2ff9f73abc@www.akbild.ac.at
CREATED:20220312T183844Z
LAST-MODIFIED:20240802T103234Z
URL:https://www.akbild.ac.at/en/research/art-research-service/calls-contes
 ts/2017/horizon-2020-marie-sklodowska-curie-individual-fellowships-if/SubE
 vent
END:VEVENT
END:VCALENDAR
