BEGIN:VCALENDAR
VERSION:2.0
PRODID:-//Plone.org//NONSGML plone.app.event//EN
X-WR-TIMEZONE:Europe/Vienna
BEGIN:VEVENT
SUMMARY:Kunstverein EXTRA | Artist Residencies Athens
DTSTART;VALUE=DATE:20170219
DTEND;VALUE=DATE:20170220
DTSTAMP:20260424T205352Z
UID:e0eb4a37fbcd0697582ecc790e77d710@www.akbild.ac.at
CREATED:20220312T183620Z
DESCRIPTION:This is a call for applications for four artist residencies in
  Athens for the first half of 2017.
LAST-MODIFIED:20240802T103229Z
URL:https://www.akbild.ac.at/en/research/art-research-service/calls-contes
 ts/2017/kunstverein-extra-artist-in-residence-athen
END:VEVENT
END:VCALENDAR
