BEGIN:VCALENDAR
VERSION:2.0
PRODID:-//Plone.org//NONSGML plone.app.event//EN
X-WR-TIMEZONE:Europe/Vienna
BEGIN:VEVENT
SUMMARY:Make Yourself an Expert HUB | Going International
DTSTART;VALUE=DATE:20170306
DTEND;VALUE=DATE:20170307
DTSTAMP:20260424T153441Z
UID:c11067068b50f02ac4669bd94366b6a8@www.akbild.ac.at
CREATED:20220312T183648Z
DESCRIPTION:The current training programme MAKE YOURSELF AN EXPERT is focu
 sing on the topic going international and run in a cooperation with ELIA a
 nd the Wissenstransferzentrum Ost.
LAST-MODIFIED:20240802T103229Z
URL:https://www.akbild.ac.at/en/research/art-research-service/calls-contes
 ts/2017/make-yourself-an-expert-hub-going-international
END:VEVENT
END:VCALENDAR
