BEGIN:VCALENDAR
VERSION:2.0
PRODID:-//Plone.org//NONSGML plone.app.event//EN
X-WR-TIMEZONE:Europe/Vienna
BEGIN:VEVENT
SUMMARY:Open Call | Biotopia
DTSTART;VALUE=DATE:20170403
DTEND;VALUE=DATE:20170404
DTSTAMP:20260419T132205Z
UID:685e8e0d8af00e5d2e511e0fbf55d57d@www.akbild.ac.at
CREATED:20220312T183710Z
DESCRIPTION:Biotopia is part of the festival Aufwind and will take place f
 rom June 22nd until June 25th 2017\, inside and around the former stables 
 at Krieau in Vienna. We are seeking submissions for visual and performativ
 e artworks\, new or existing.
LAST-MODIFIED:20240802T103229Z
URL:https://www.akbild.ac.at/en/research/art-research-service/calls-contes
 ts/2017/open-call-biotopia
END:VEVENT
END:VCALENDAR
