BEGIN:VCALENDAR
VERSION:2.0
PRODID:-//Plone.org//NONSGML plone.app.event//EN
X-WR-TIMEZONE:Europe/Vienna
BEGIN:VEVENT
SUMMARY:Rijksmuseum | Fellowship Programm 2017|18
DTSTART;VALUE=DATE:20170312
DTEND;VALUE=DATE:20170313
DTSTAMP:20260424T212721Z
UID:f72c5a62e72643b27247d9cf01e44de4@www.akbild.ac.at
CREATED:20220312T183651Z
DESCRIPTION:The Rijksmuseum operates a Fellowship Programme for outstandin
 g candidates working on the art and history of the Netherlands whose princ
 ipal concern is object-based research.
LAST-MODIFIED:20240802T103229Z
URL:https://www.akbild.ac.at/en/research/art-research-service/calls-contes
 ts/2017/rijksmuseum-fellowship-programm-2017-18
END:VEVENT
END:VCALENDAR
