BEGIN:VCALENDAR
VERSION:2.0
PRODID:-//Plone.org//NONSGML plone.app.event//EN
X-WR-TIMEZONE:Europe/Vienna
BEGIN:VEVENT
SUMMARY:Theodor-Fischer Award 2017 | ZI München
DTSTART;VALUE=DATE:20170317
DTEND;VALUE=DATE:20170318
DTSTAMP:20260424T122958Z
UID:709ba07cd26de130b7011f290217c73d@www.akbild.ac.at
CREATED:20220312T183653Z
DESCRIPTION:The annual award for distinguished research in the field of th
 e history of architecture from the nineteenth to the twenty-first century 
 is to encourage younger scholars to bring the results of their work to the
  attention of a broader public.
LAST-MODIFIED:20240802T103229Z
URL:https://www.akbild.ac.at/en/research/art-research-service/calls-contes
 ts/2017/theodor-fischer-preos-2017-zi-muenchen
END:VEVENT
END:VCALENDAR
