BEGIN:VCALENDAR
VERSION:2.0
PRODID:-//Plone.org//NONSGML plone.app.event//EN
X-WR-TIMEZONE:Europe/Vienna
BEGIN:VEVENT
SUMMARY:Call for Papers | European Feminist Research Conference 2018
DTSTART;VALUE=DATE:20180212
DTEND;VALUE=DATE:20180213
DTSTAMP:20260423T100224Z
UID:34aa35880bc18107b43e7d82f9300674@www.akbild.ac.at
CREATED:20220312T184027Z
DESCRIPTION:The European Feminist Research Conference 2018 will take place
  on September 12-15 in Göttingen\, DE.
LAST-MODIFIED:20240802T103234Z
URL:https://www.akbild.ac.at/en/research/art-research-service/calls-contes
 ts/2018/call-for-papers-european-feminist-research-conference-2018
END:VEVENT
END:VCALENDAR
