BEGIN:VCALENDAR
VERSION:2.0
PRODID:-//Plone.org//NONSGML plone.app.event//EN
X-WR-TIMEZONE:Europe/Vienna
BEGIN:VEVENT
SUMMARY:Call for Papers | Feminist alliances: the discourse\, practices an
 d politics of solidarity among inequalities
DTSTART;VALUE=DATE:20181230
DTEND;VALUE=DATE:20181231
DTSTAMP:20260423T114452Z
UID:33176f34c4eb845f56b79f45200210cc@www.akbild.ac.at
CREATED:20220312T184216Z
DESCRIPTION:Call for Paper for a conference on 'Feminist alliances: the di
 scourses\, practices and politics of solidarity among inequalities' to be 
 held at Scuola Normale Superiore Florence on March 8th 2019.
LAST-MODIFIED:20240802T103238Z
URL:https://www.akbild.ac.at/en/research/art-research-service/calls-contes
 ts/2018/call-for-papers-feminist-alliances-the-discourse-practices-and-pol
 itics-of-solidarity-among-inequalities
END:VEVENT
END:VCALENDAR
