BEGIN:VCALENDAR
VERSION:2.0
PRODID:-//Plone.org//NONSGML plone.app.event//EN
X-WR-TIMEZONE:Europe/Vienna
BEGIN:VEVENT
SUMMARY:Call for Papers | Graduate Conference 2018
DTSTART;VALUE=DATE:20180427
DTEND;VALUE=DATE:20180428
DTSTAMP:20260423T100947Z
UID:77d15876267f552224040ff3bc243d2a@www.akbild.ac.at
CREATED:20220312T184059Z
DESCRIPTION:The\n \n  Graduate Conference\n \n 2018 takes place on May 28t
 h 2018 at the Academy of Fine Arts Vienna.
LAST-MODIFIED:20240802T103234Z
URL:https://www.akbild.ac.at/en/research/art-research-service/calls-contes
 ts/2018/call-for-papers-graduiertenkonferenz-2018/SubEvent
END:VEVENT
END:VCALENDAR
