BEGIN:VCALENDAR
VERSION:2.0
PRODID:-//Plone.org//NONSGML plone.app.event//EN
X-WR-TIMEZONE:Europe/Vienna
BEGIN:VEVENT
SUMMARY:ERC "Consolidator Grant"
DTSTART;VALUE=DATE:20180215
DTEND;VALUE=DATE:20180216
DTSTAMP:20260424T145714Z
UID:a8125f63a0d9223ae7d1925dc9db59ca@www.akbild.ac.at
CREATED:20220312T184026Z
DESCRIPTION:ERC Consolidator Grants are designed to support excellent Prin
 cipal  Investigators at the career stage at which they may still be  conso
 lidating their own independent research team or programme.
LAST-MODIFIED:20240802T103234Z
URL:https://www.akbild.ac.at/en/research/art-research-service/calls-contes
 ts/2018/erc-consolidator-grant
END:VEVENT
END:VCALENDAR
