BEGIN:VCALENDAR
VERSION:2.0
PRODID:-//Plone.org//NONSGML plone.app.event//EN
X-WR-TIMEZONE:Europe/Vienna
BEGIN:VEVENT
SUMMARY:FWF | Research Groups
DTSTART;VALUE=DATE:20180930
DTEND;VALUE=DATE:20181001
DTSTAMP:20260425T164839Z
UID:08623ad1a69f9ba535d9caf2e3c1281e@www.akbild.ac.at
CREATED:20220312T184150Z
DESCRIPTION:With the support of the national foundationthe FWF is issuing 
 a call for “Research Groups”. Research Groups are a network of Interdi
 sciplinary or Multidisciplinary Teams of Three to Five Researchers Indepen
 dent of Location.
LAST-MODIFIED:20240802T103238Z
URL:https://www.akbild.ac.at/en/research/art-research-service/calls-contes
 ts/2018/fwf-forschungsgruppen
END:VEVENT
END:VCALENDAR
