BEGIN:VCALENDAR
VERSION:2.0
PRODID:-//Plone.org//NONSGML plone.app.event//EN
X-WR-TIMEZONE:Europe/Vienna
BEGIN:VEVENT
SUMMARY:FWF | START Programme
DTSTART;VALUE=DATE:20180920
DTEND;VALUE=DATE:20180921
DTSTAMP:20260425T104243Z
UID:31f83af389559936ccb38dc286df6885@www.akbild.ac.at
CREATED:20220312T184206Z
DESCRIPTION:Applications are expected from outstanding young researchers o
 f any discipline with two or more years research experience as Postdoc.
LAST-MODIFIED:20240802T103238Z
URL:https://www.akbild.ac.at/en/research/art-research-service/calls-contes
 ts/2018/fwf-start-programm
END:VEVENT
END:VCALENDAR
