BEGIN:VCALENDAR
VERSION:2.0
PRODID:-//Plone.org//NONSGML plone.app.event//EN
X-WR-TIMEZONE:Europe/Vienna
BEGIN:VEVENT
SUMMARY:LMU München | Juliane und Franz-Roh-Fellowships | Modern and Co
 ntemporary Art (19th to 21st Century)
DTSTART;VALUE=DATE:20180315
DTEND;VALUE=DATE:20180316
DTSTAMP:20260424T103354Z
UID:86c55cbe0ede6b6fe03ef5064327603e@www.akbild.ac.at
CREATED:20220312T184039Z
DESCRIPTION:The Zentralinstitut für Kunstgeschichte and the Institut für
  Kunstgeschichte of the Ludwig-Maximilians-Universität in Munich will awa
 rd two Juliane and Franz Roh Fellowships in Modern and Contemporary Art (1
 9th-21st century) at the Studienzentrum zur Moderne – Bibliothek Herzog 
 Franz von Bayern at the Zentralinstitut für Kunstgeschichte.
LAST-MODIFIED:20240802T103234Z
URL:https://www.akbild.ac.at/en/research/art-research-service/calls-contes
 ts/2018/lmu-muenchen-juliane-und-franz-roh-stipendien-kunst-des-19.201321.
 -jahrhunderts
END:VEVENT
END:VCALENDAR
