BEGIN:VCALENDAR
VERSION:2.0
PRODID:-//Plone.org//NONSGML plone.app.event//EN
X-WR-TIMEZONE:Europe/Vienna
BEGIN:VEVENT
SUMMARY:New Talents Exhibition | Belgrade Photo Month Festival
DTSTART;VALUE=DATE:20180128
DTEND;VALUE=DATE:20180129
DTSTAMP:20260424T103354Z
UID:2db31b6ef25d53af93992adc9cc3421a@www.akbild.ac.at
CREATED:20220312T183959Z
DESCRIPTION:New Talents is a photo contest for photograhy projects and for
  photographers upto 25 years old.
LAST-MODIFIED:20240802T103234Z
URL:https://www.akbild.ac.at/en/research/art-research-service/calls-contes
 ts/2018/new-talents-exhibition-belgrade-photo-month-festival
END:VEVENT
END:VCALENDAR
