BEGIN:VCALENDAR
VERSION:2.0
PRODID:-//Plone.org//NONSGML plone.app.event//EN
X-WR-TIMEZONE:Europe/Vienna
BEGIN:VEVENT
SUMMARY:OEAW PRIZE QUESTION | “Can the societal relevance of research be
  evaluated and if so\, how?”
DTSTART;VALUE=DATE:20180831
DTEND;VALUE=DATE:20180901
DTSTAMP:20260424T091442Z
UID:f31325a6014229b81900d97c226e7d85@www.akbild.ac.at
CREATED:20220312T184136Z
DESCRIPTION:The Austrian Academy of Sciences is offering a prize for the t
 hree best answers to the question: “Can the societal relevance of resear
 ch be evaluated and if so\, how?”
LAST-MODIFIED:20240802T103234Z
URL:https://www.akbild.ac.at/en/research/art-research-service/calls-contes
 ts/2018/oeaw-preisfrage-ist-gesellschaftliche-relevanz-von-forschung-bewer
 tbar-und-wenn-ja-wie
END:VEVENT
END:VCALENDAR
