BEGIN:VCALENDAR
VERSION:2.0
PRODID:-//Plone.org//NONSGML plone.app.event//EN
X-WR-TIMEZONE:Europe/Vienna
BEGIN:VEVENT
SUMMARY:Call | Bank Austria Kunstpreis Kärnten 2020
DTSTART;TZID=Europe/Vienna:20191221T120000
DTSTAMP:20260421T224226Z
UID:b1cb2c055a35e5625f7d32c9b38602b8@www.akbild.ac.at
CREATED:20220312T184350Z
DESCRIPTION:Galerie3 (Klagenfurt) in cooperation with Bank Austria\, Regio
 naldirektion Kärnten/Osttirol\, announces for the 19th time the award for
  young Carinthian fine arts.
LAST-MODIFIED:20240802T103238Z
URL:https://www.akbild.ac.at/en/research/art-research-service/calls-contes
 ts/2019/ausschreibung-bank-austria-kunstpreis-kaernten-2020
END:VEVENT
BEGIN:VTIMEZONE
TZID:Europe/Vienna
X-LIC-LOCATION:Europe/Vienna
BEGIN:STANDARD
DTSTART:20191027T020000
TZNAME:CET
TZOFFSETFROM:+0200
TZOFFSETTO:+0100
END:STANDARD
END:VTIMEZONE
END:VCALENDAR
