BEGIN:VCALENDAR
VERSION:2.0
PRODID:-//Plone.org//NONSGML plone.app.event//EN
X-WR-TIMEZONE:Europe/Vienna
BEGIN:VEVENT
SUMMARY:CALL for Concepts | Amsterdam Light Festival 2019
DTSTART;VALUE=DATE:20190121
DTEND;VALUE=DATE:20190122
DTSTAMP:20260423T084458Z
UID:7990731cbc92296759733dec263da065@www.akbild.ac.at
CREATED:20220312T184228Z
DESCRIPTION:Amsterdam Light Festival is an annual light art festival in th
 e Netherlands that presents the rapidly developing concept of light art in
  all its forms.
LAST-MODIFIED:20240802T103238Z
URL:https://www.akbild.ac.at/en/research/art-research-service/calls-contes
 ts/2019/call-for-concepts-amsterdam-light-festival-2019
END:VEVENT
END:VCALENDAR
