BEGIN:VCALENDAR
VERSION:2.0
PRODID:-//Plone.org//NONSGML plone.app.event//EN
X-WR-TIMEZONE:Europe/Vienna
BEGIN:VEVENT
SUMMARY:Call for expositions | VIS Issue 3
DTSTART;VALUE=DATE:20190601
DTEND;VALUE=DATE:20190602
DTSTAMP:20260423T100942Z
UID:1b00a4acdb99fab50b4f782a245e4375@www.akbild.ac.at
CREATED:20220312T184325Z
DESCRIPTION:VIS – Nordic Journal for Artistic Research has opened the ca
 ll for Issue 3. Deadline for submissions is 1 June 2019. The theme is “H
 istory Now”.
LAST-MODIFIED:20240802T103238Z
URL:https://www.akbild.ac.at/en/research/art-research-service/calls-contes
 ts/2019/call-for-expositions-vis-issue-3
END:VEVENT
END:VCALENDAR
