BEGIN:VCALENDAR
VERSION:2.0
PRODID:-//Plone.org//NONSGML plone.app.event//EN
X-WR-TIMEZONE:Europe/Vienna
BEGIN:VEVENT
SUMMARY:Call for Papers| Graduate Conference 2019
DTSTART;VALUE=DATE:20190329
DTEND;VALUE=DATE:20190330
DTSTAMP:20260421T191712Z
UID:4db4f4fb070a799f643414541cfef373@www.akbild.ac.at
CREATED:20220312T184314Z
DESCRIPTION:We are happy to announce the call for papers for the annual Gr
 aduate Conference of the Academy of Fine Arts Vienna on Mai 13th 2019.
LAST-MODIFIED:20240802T103238Z
URL:https://www.akbild.ac.at/en/research/art-research-service/calls-contes
 ts/2019/call-for-papers-graduiertenkonferenz-2019/SubEvent
END:VEVENT
END:VCALENDAR
