BEGIN:VCALENDAR
VERSION:2.0
PRODID:-//Plone.org//NONSGML plone.app.event//EN
X-WR-TIMEZONE:Europe/Vienna
BEGIN:VEVENT
SUMMARY:Different Worlds 2019 - Curators Edition
DTSTART;VALUE=DATE:20190614
DTEND;VALUE=DATE:20190615
DTSTAMP:20260424T031022Z
UID:d0eead4a5e281621535d232ee0b690d6@www.akbild.ac.at
CREATED:20220312T184331Z
DESCRIPTION:International open call aimed at young curators from Central a
 nd Eastern Europe (CEE) and Austria
LAST-MODIFIED:20240802T103238Z
URL:https://www.akbild.ac.at/en/research/art-research-service/calls-contes
 ts/2019/different-worlds-2019-curators-edition
END:VEVENT
END:VCALENDAR
