BEGIN:VCALENDAR
VERSION:2.0
PRODID:-//Plone.org//NONSGML plone.app.event//EN
X-WR-TIMEZONE:Europe/Vienna
BEGIN:VEVENT
SUMMARY:Dissertation Completion Fellowship
DTSTART;TZID=Europe/Vienna:20191119T110000
DTSTAMP:20260424T063913Z
UID:650eb239d37ce856927cb5b437bf8dbc@www.akbild.ac.at
CREATED:20220312T184345Z
DESCRIPTION:The Dissertation Completion Fellowship aims to support PhD stu
 dents in the final phase of the dissertation until completion.
LAST-MODIFIED:20240802T103238Z
URL:https://www.akbild.ac.at/en/research/art-research-service/calls-contes
 ts/2019/dissertation-completion-fellowship
END:VEVENT
BEGIN:VTIMEZONE
TZID:Europe/Vienna
X-LIC-LOCATION:Europe/Vienna
BEGIN:STANDARD
DTSTART:20191027T020000
TZNAME:CET
TZOFFSETFROM:+0200
TZOFFSETTO:+0100
END:STANDARD
END:VTIMEZONE
END:VCALENDAR
