BEGIN:VCALENDAR
VERSION:2.0
PRODID:-//Plone.org//NONSGML plone.app.event//EN
X-WR-TIMEZONE:Europe/Vienna
BEGIN:VEVENT
SUMMARY:ERC "Consolidator Grant"
DTSTART;TZID=Europe/Vienna:20190207T170000
DTSTAMP:20260424T235710Z
UID:80490967d9663fadd3d8b56414315310@www.akbild.ac.at
CREATED:20220312T184240Z
DESCRIPTION:ERC Consolidator Grants are designed to support excellent Prin
 cipal Investigators at the career stage at which they may still be consoli
 dating their own independent research team or programme.
LAST-MODIFIED:20240802T103238Z
URL:https://www.akbild.ac.at/en/research/art-research-service/calls-contes
 ts/2019/erc-consolidator-grant
END:VEVENT
BEGIN:VTIMEZONE
TZID:Europe/Vienna
X-LIC-LOCATION:Europe/Vienna
BEGIN:STANDARD
DTSTART:20181028T020000
TZNAME:CET
TZOFFSETFROM:+0200
TZOFFSETTO:+0100
END:STANDARD
END:VTIMEZONE
END:VCALENDAR
