BEGIN:VCALENDAR
VERSION:2.0
PRODID:-//Plone.org//NONSGML plone.app.event//EN
X-WR-TIMEZONE:Europe/Vienna
BEGIN:VEVENT
SUMMARY:FWF | Young Independent Researcher Groups
DTSTART;VALUE=DATE:20190412
DTEND;VALUE=DATE:20190413
DTSTAMP:20260425T121546Z
UID:61774e8dd54dc8051fc0d7722c605307@www.akbild.ac.at
CREATED:20220312T184313Z
DESCRIPTION:In Spring 2019 FWF will announce the next call for “Young In
 dependent Researcher Groups”. From March 2019 the registration for the P
 roposers’ Day on 12 April 2019 is possible.
LAST-MODIFIED:20240802T103238Z
URL:https://www.akbild.ac.at/en/research/art-research-service/calls-contes
 ts/2019/fwf-zukunftskollegs
END:VEVENT
END:VCALENDAR
