BEGIN:VCALENDAR
VERSION:2.0
PRODID:-//Plone.org//NONSGML plone.app.event//EN
X-WR-TIMEZONE:Europe/Vienna
BEGIN:VEVENT
SUMMARY:Horizon 2020 | MARIE SKLODOWSKA-CURIE - INDIVIDUAL FELLOWSHIPS (IF
 )
DTSTART;VALUE=DATE:20190911
DTEND;VALUE=DATE:20190912
DTSTAMP:20260424T162020Z
UID:f6709516da2f92f84f767c7ac58c83fd@www.akbild.ac.at
CREATED:20220312T184340Z
DESCRIPTION:The Marie Sklodowska-Curie Individual Fellowships (IF) provide
  opportunities for experienced researchers (with doctorate or min. of 4 ye
 ars reserach experience) to work for 1-3 years on research and innovation 
 in a European context or outside Europe.
LAST-MODIFIED:20240802T103238Z
URL:https://www.akbild.ac.at/en/research/art-research-service/calls-contes
 ts/2019/horizon-2020-marie-sklodowska-curie-individual-fellowships-if/SubE
 vent
END:VEVENT
END:VCALENDAR
