BEGIN:VCALENDAR
VERSION:2.0
PRODID:-//Plone.org//NONSGML plone.app.event//EN
X-WR-TIMEZONE:Europe/Vienna
BEGIN:VEVENT
SUMMARY:IFK | Junior Fellowship 2019|20
DTSTART;VALUE=DATE:20190120
DTEND;VALUE=DATE:20190121
DTSTAMP:20260426T021147Z
UID:08033d791f47f9b10b40fb204e01aa0c@www.akbild.ac.at
CREATED:20220312T184222Z
DESCRIPTION:The IFK_Junior Fellowships are intended for doctoral candidate
 s (up to 35 years) doing their dissertations at an Austrian university.
LAST-MODIFIED:20240802T103238Z
URL:https://www.akbild.ac.at/en/research/art-research-service/calls-contes
 ts/2019/ifk-junior-fellowship-2019-20
END:VEVENT
END:VCALENDAR
