BEGIN:VCALENDAR
VERSION:2.0
PRODID:-//Plone.org//NONSGML plone.app.event//EN
X-WR-TIMEZONE:Europe/Vienna
BEGIN:VEVENT
SUMMARY:Competition for an artistic short film „Grenze/n“ (Border/s)
DTSTART;VALUE=DATE:20190705
DTEND;VALUE=DATE:20190706
DTSTAMP:20260422T164411Z
UID:3c884cbf7f05c2d6659342733ae8f960@www.akbild.ac.at
CREATED:20220312T184337Z
DESCRIPTION:Open\, single-stage project competition held by the Institute 
 for Art in Public Space Styria in cooperation with ORF Steiermark for an a
 rtistic short film
LAST-MODIFIED:20240802T103238Z
URL:https://www.akbild.ac.at/en/research/art-research-service/calls-contes
 ts/2019/kurzflimwettbewerb-grenze-n
END:VEVENT
END:VCALENDAR
