BEGIN:VCALENDAR
VERSION:2.0
PRODID:-//Plone.org//NONSGML plone.app.event//EN
X-WR-TIMEZONE:Europe/Vienna
BEGIN:VEVENT
SUMMARY:OeAW | Apart GSK
DTSTART;VALUE=DATE:20190515
DTEND;VALUE=DATE:20190516
DTSTAMP:20260424T161906Z
UID:dde5e1497e36e7c09b560f2ccd650c44@www.akbild.ac.at
CREATED:20220312T184320Z
DESCRIPTION:APART-GSK is a funding programme for excellent junior scholars
  in the  humanities and the social and cultural sciences (GSK) in the firs
 t  post-doc phase of their careers.
LAST-MODIFIED:20240802T103238Z
URL:https://www.akbild.ac.at/en/research/art-research-service/calls-contes
 ts/2019/oeaw-apart-gsk
END:VEVENT
END:VCALENDAR
