BEGIN:VCALENDAR
VERSION:2.0
PRODID:-//Plone.org//NONSGML plone.app.event//EN
X-WR-TIMEZONE:Europe/Vienna
BEGIN:VEVENT
SUMMARY:ÖAW | DOC Fellowship
DTSTART;VALUE=DATE:20190228
DTEND;VALUE=DATE:20190301
DTSTAMP:20260426T003024Z
UID:e1b3f13755132022c5022b6e75cc3b1f@www.akbild.ac.at
CREATED:20220312T184305Z
DESCRIPTION:The DOC - Doctoral Fellowship Programme of the AustriaThe DOC 
 - Doctoral Fellowship Programme of the Austrian Academy of Sciences (ÖAW)
  enables young\, excellent doctoral candidates from all disciplines to car
 ry out their dissertation project within a definable period of time.
LAST-MODIFIED:20240802T103238Z
URL:https://www.akbild.ac.at/en/research/art-research-service/calls-contes
 ts/2019/oeaw-doc-stipendien
END:VEVENT
END:VCALENDAR
