BEGIN:VCALENDAR
VERSION:2.0
PRODID:-//Plone.org//NONSGML plone.app.event//EN
X-WR-TIMEZONE:Europe/Vienna
BEGIN:VEVENT
SUMMARY:Scholarship | European Forum Alpbach 2019
DTSTART;VALUE=DATE:20190329
DTEND;VALUE=DATE:20190330
DTSTAMP:20260424T133427Z
UID:57291d2630846f1ab9db9bd8da2ffb61@www.akbild.ac.at
CREATED:20220312T184317Z
DESCRIPTION:With the Alpbach scholarship programme\, young people under 30
  can attend  this leading interdisciplinary conference and a variety of ac
 ademic  seminars.
LAST-MODIFIED:20240802T103238Z
URL:https://www.akbild.ac.at/en/research/art-research-service/calls-contes
 ts/2019/stipendien-europaeische-forum-alpbach
END:VEVENT
END:VCALENDAR
