BEGIN:VCALENDAR
VERSION:2.0
PRODID:-//Plone.org//NONSGML plone.app.event//EN
X-WR-TIMEZONE:Europe/Vienna
BEGIN:VEVENT
SUMMARY:Short term grants abroad
DTSTART;TZID=Europe/Vienna:20191210T110000
DTSTAMP:20260424T045823Z
UID:063adb96737fa7f2023198dcd0fa8b95@www.akbild.ac.at
CREATED:20220312T184348Z
DESCRIPTION:The scholarship for a short-term stay abroad for doctoral/PhD 
 candidates at the Academy  supports stays abroad for e.g. research\, field
  research\, archival  research\, interviews\, which are necessary for the 
 dissertation or the  PhD project.
LAST-MODIFIED:20240802T103238Z
URL:https://www.akbild.ac.at/en/research/art-research-service/calls-contes
 ts/2019/stipendium-kurfristiger-auslandsaufenthalt
END:VEVENT
BEGIN:VTIMEZONE
TZID:Europe/Vienna
X-LIC-LOCATION:Europe/Vienna
BEGIN:STANDARD
DTSTART:20191027T020000
TZNAME:CET
TZOFFSETFROM:+0200
TZOFFSETTO:+0100
END:STANDARD
END:VTIMEZONE
END:VCALENDAR
