BEGIN:VCALENDAR
VERSION:2.0
PRODID:-//Plone.org//NONSGML plone.app.event//EN
X-WR-TIMEZONE:Europe/Vienna
BEGIN:VEVENT
SUMMARY:xhibitE: Call for Exhibition Projects to Be Realized in 2020
DTSTART;VALUE=DATE:20190214
DTEND;VALUE=DATE:20190215
DTSTAMP:20260422T022340Z
UID:5d5b731544b04f4189de647b16657d6c@www.akbild.ac.at
CREATED:20220312T184236Z
DESCRIPTION:As of now\, the Vice Rector’s Office for Art | Research of t
 he Academy of Fine Arts Vienna is accepting proposals for exhibition proje
 cts to be realized in 2020.
LAST-MODIFIED:20240802T103238Z
URL:https://www.akbild.ac.at/en/research/art-research-service/calls-contes
 ts/2019/xhibite-call-fu308r-ausstellungsprojekte-fu308r-das-jahr-2020
END:VEVENT
END:VCALENDAR
