BEGIN:VCALENDAR
VERSION:2.0
PRODID:-//Plone.org//NONSGML plone.app.event//EN
X-WR-TIMEZONE:Europe/Vienna
BEGIN:VEVENT
SUMMARY:Call | Gustav Peichl Award 2020
DTSTART;VALUE=DATE:20200528
DTEND;VALUE=DATE:20200529
DTSTAMP:20260421T224036Z
UID:588d900381fc003d2da0f62c876ee8ec@www.akbild.ac.at
CREATED:20220312T184501Z
DESCRIPTION:The Gustav Peichl Award for Architectural Drawing was launched
  in 2014 on the initiative of the graduates of the Gustav Peichl "Meisters
 chule" of Architecture with the support of the Academy of Fine Arts Vienna
 \, the Society of Friends of Fine Arts and private sponsors.
LAST-MODIFIED:20240802T103242Z
URL:https://www.akbild.ac.at/en/research/art-research-service/calls-contes
 ts/2020/ausschreibung-gustav-peichl-preis-2020
END:VEVENT
END:VCALENDAR
