BEGIN:VCALENDAR
VERSION:2.0
PRODID:-//Plone.org//NONSGML plone.app.event//EN
X-WR-TIMEZONE:Europe/Vienna
BEGIN:VEVENT
SUMMARY:Call for Papers: Gender Journal | Social Mobility and Gender
DTSTART;VALUE=DATE:20200628
DTEND;VALUE=DATE:20200629
DTSTAMP:20260421T194021Z
UID:b19f11e561bb4240f30793b488b92802@www.akbild.ac.at
CREATED:20220312T184619Z
DESCRIPTION:Social mobility has been a central promise of Western meritocr
 acies\, especially since the expansion of education from the 1960s onwards
 . In the 21st century\, the uncertainty and precariousness of educational 
 and employment constellations are increasing\, as is the fear of social de
 cline.
LAST-MODIFIED:20240802T103242Z
URL:https://www.akbild.ac.at/en/research/art-research-service/calls-contes
 ts/2020/call-for-papers-der-zeitschrift-gender-soziale-mobilitaet-und-gesc
 hlecht
END:VEVENT
END:VCALENDAR
