BEGIN:VCALENDAR
VERSION:2.0
PRODID:-//Plone.org//NONSGML plone.app.event//EN
X-WR-TIMEZONE:Europe/Vienna
BEGIN:VEVENT
SUMMARY:Call for Papers | Feminist Perspectives in Peace and Conflict Stud
 ies: Intersectional Approaches
DTSTART;VALUE=DATE:20200331
DTEND;VALUE=DATE:20200401
DTSTAMP:20260423T101117Z
UID:bc92ed7bf3a11cbb3ed3881526a75343@www.akbild.ac.at
CREATED:20220312T184431Z
DESCRIPTION:The call invites young scientists and graduates as well as sen
 ior researchers to submit their contributions to the work-in-progress-work
 shop „Feminist Perspectives in Peace and Conflict Studies: Intersectiona
 l Approaches“.
LAST-MODIFIED:20240802T103242Z
URL:https://www.akbild.ac.at/en/research/art-research-service/calls-contes
 ts/2020/call-for-papers-feminist-perspectives-in-peace-and-conflict-studie
 s-intersectional-approaches
END:VEVENT
END:VCALENDAR
