BEGIN:VCALENDAR
VERSION:2.0
PRODID:-//Plone.org//NONSGML plone.app.event//EN
X-WR-TIMEZONE:Europe/Vienna
BEGIN:VEVENT
SUMMARY:CDG\, FWF\, BMBWF | doc.funds.connect
DTSTART;TZID=Europe/Vienna:20201123T140000
DTSTAMP:20260422T055124Z
UID:6834b8ff67446348f9399f42ee933f22@www.akbild.ac.at
CREATED:20220312T184743Z
DESCRIPTION:This funding measure initiated by the BMBWF facilitates the cr
 eation of a cooperative doctoral programme between universities and univer
 sities of applied sciences.
LAST-MODIFIED:20240802T103243Z
URL:https://www.akbild.ac.at/en/research/art-research-service/calls-contes
 ts/2020/cdg-fwf-bmbwf-doc.funds.connect
END:VEVENT
BEGIN:VTIMEZONE
TZID:Europe/Vienna
X-LIC-LOCATION:Europe/Vienna
BEGIN:STANDARD
DTSTART:20201025T020000
TZNAME:CET
TZOFFSETFROM:+0200
TZOFFSETTO:+0100
END:STANDARD
END:VTIMEZONE
END:VCALENDAR
