BEGIN:VCALENDAR
VERSION:2.0
PRODID:-//Plone.org//NONSGML plone.app.event//EN
X-WR-TIMEZONE:Europe/Vienna
BEGIN:VEVENT
SUMMARY:ERC Advanced Grant
DTSTART;VALUE=DATE:20200826
DTEND;VALUE=DATE:20200827
DTSTAMP:20260424T145642Z
UID:c5f7befd86ca09d3d38a6ed9b11c8baa@www.akbild.ac.at
CREATED:20220312T184637Z
DESCRIPTION:ERC Advanced Grants are designed to support excellent Principa
 l Investigators at the career stage at which they are already established 
 research leaders with a recognised track record of research achievements. 
 Principal Investigators must demonstrate the ground-breaking nature\, ambi
 tion and feasibility of their scientific proposal.
LAST-MODIFIED:20240802T103242Z
URL:https://www.akbild.ac.at/en/research/art-research-service/calls-contes
 ts/2020/erc-advanced-grant
END:VEVENT
END:VCALENDAR
