BEGIN:VCALENDAR
VERSION:2.0
PRODID:-//Plone.org//NONSGML plone.app.event//EN
X-WR-TIMEZONE:Europe/Vienna
BEGIN:VEVENT
SUMMARY:European Cultural Foundation | Culture of Solidarity Fund
DTSTART;TZID=Europe/Vienna:20200427T120000
DTSTAMP:20260425T111224Z
UID:2bf40e65e5e574727a59f697be7d1483@www.akbild.ac.at
CREATED:20220312T184440Z
DESCRIPTION:The Culture of Solidarity Fund is looking to support imaginati
 ve cultural initiatives - big or small - that reinforce solidarity and the
  notion of Europe as a shared public space in response to the current cris
 is and its aftershocks. It is open to individuals\, collectives and organi
 sations from all sectors and civil society at large.
LAST-MODIFIED:20240802T103242Z
URL:https://www.akbild.ac.at/en/research/art-research-service/calls-contes
 ts/2020/europaeische-kulturstiftung-culture-of-solidarity-fund
END:VEVENT
BEGIN:VTIMEZONE
TZID:Europe/Vienna
X-LIC-LOCATION:Europe/Vienna
BEGIN:DAYLIGHT
DTSTART:20200329T030000
TZNAME:CEST
TZOFFSETFROM:+0100
TZOFFSETTO:+0200
END:DAYLIGHT
END:VTIMEZONE
END:VCALENDAR
