BEGIN:VCALENDAR
VERSION:2.0
PRODID:-//Plone.org//NONSGML plone.app.event//EN
X-WR-TIMEZONE:Europe/Vienna
BEGIN:VEVENT
SUMMARY:European Forum Alpbach | Scholarship Programme 2020
DTSTART;VALUE=DATE:20200331
DTEND;VALUE=DATE:20200401
DTSTAMP:20260425T110547Z
UID:4c4d3daeec2680c424f8e0e4e55f2135@www.akbild.ac.at
CREATED:20220312T184427Z
LAST-MODIFIED:20240802T103238Z
URL:https://www.akbild.ac.at/en/research/art-research-service/calls-contes
 ts/2020/europaeisches-forum-alpbach-stipendien-2020
END:VEVENT
END:VCALENDAR
