BEGIN:VCALENDAR
VERSION:2.0
PRODID:-//Plone.org//NONSGML plone.app.event//EN
X-WR-TIMEZONE:Europe/Vienna
BEGIN:VEVENT
SUMMARY:Falling Walls Lab Austria
DTSTART;VALUE=DATE:20200810
DTEND;VALUE=DATE:20200811
DTSTAMP:20260426T003025Z
UID:e7689c64a76bed14fac471d7e471a5f3@www.akbild.ac.at
CREATED:20220312T184635Z
DESCRIPTION:Which wall will your research break? Pitch your innovative ide
 a in just 3 minutes\, showcasing a breakthrough that creates a positive im
 pact on science and society.
LAST-MODIFIED:20240802T103242Z
URL:https://www.akbild.ac.at/en/research/art-research-service/calls-contes
 ts/2020/falling-walls-lab-austria
END:VEVENT
END:VCALENDAR
