BEGIN:VCALENDAR
VERSION:2.0
PRODID:-//Plone.org//NONSGML plone.app.event//EN
X-WR-TIMEZONE:Europe/Vienna
BEGIN:VEVENT
SUMMARY:FWF | #ConnectingMinds
DTSTART;TZID=Europe/Vienna:20200608T140000
DTSTAMP:20260425T162327Z
UID:416937e6891b2c933160a8b53cfd96fe@www.akbild.ac.at
CREATED:20220312T184556Z
DESCRIPTION:With the support of the Nationalstiftung the Austrian Science 
 Fund (FWF) is issuing for the first time a call for #ConnectingMinds in 20
 20. This new programme is designed to encourage researchers to include non
 -academic stakeholders in their research processes.
LAST-MODIFIED:20240802T103242Z
URL:https://www.akbild.ac.at/en/research/art-research-service/calls-contes
 ts/2020/fwf-connectingminds
END:VEVENT
BEGIN:VTIMEZONE
TZID:Europe/Vienna
X-LIC-LOCATION:Europe/Vienna
BEGIN:DAYLIGHT
DTSTART:20200329T030000
TZNAME:CEST
TZOFFSETFROM:+0100
TZOFFSETTO:+0200
END:DAYLIGHT
END:VTIMEZONE
END:VCALENDAR
